BEGIN:VCALENDAR
VERSION:2.0
PRODID:-//jEvents 2.0 for Joomla//EN
CALSCALE:GREGORIAN
METHOD:PUBLISH
BEGIN:VTIMEZONE
TZID:Europe/Vienna
BEGIN:STANDARD
DTSTART:20241114T200000
RDATE:20250330T030000
TZOFFSETFROM:+0200
TZOFFSETTO:+0100
TZNAME:Europe/Vienna CET
END:STANDARD
BEGIN:STANDARD
DTSTART:20251026T020000
RDATE:20260329T030000
TZOFFSETFROM:+0200
TZOFFSETTO:+0100
TZNAME:Europe/Vienna CET
END:STANDARD
BEGIN:STANDARD
DTSTART:20261025T020000
RDATE:20270328T030000
TZOFFSETFROM:+0200
TZOFFSETTO:+0100
TZNAME:Europe/Vienna CET
END:STANDARD
BEGIN:STANDARD
DTSTART:20271031T020000
RDATE:20280326T030000
TZOFFSETFROM:+0200
TZOFFSETTO:+0100
TZNAME:Europe/Vienna CET
END:STANDARD
BEGIN:STANDARD
DTSTART:20281029T020000
RDATE:20290325T030000
TZOFFSETFROM:+0200
TZOFFSETTO:+0100
TZNAME:Europe/Vienna CET
END:STANDARD
BEGIN:STANDARD
DTSTART:20291028T020000
RDATE:20300331T030000
TZOFFSETFROM:+0200
TZOFFSETTO:+0100
TZNAME:Europe/Vienna CET
END:STANDARD
BEGIN:STANDARD
DTSTART:20301027T020000
RDATE:20310330T030000
TZOFFSETFROM:+0200
TZOFFSETTO:+0100
TZNAME:Europe/Vienna CET
END:STANDARD
BEGIN:STANDARD
DTSTART:20311026T020000
RDATE:20320328T030000
TZOFFSETFROM:+0200
TZOFFSETTO:+0100
TZNAME:Europe/Vienna CET
END:STANDARD
BEGIN:DAYLIGHT
DTSTART:20250330T030000
RDATE:20251026T020000
TZOFFSETFROM:+0100
TZOFFSETTO:+0200
TZNAME:Europe/Vienna CEST
END:DAYLIGHT
BEGIN:DAYLIGHT
DTSTART:20260329T030000
RDATE:20261025T020000
TZOFFSETFROM:+0100
TZOFFSETTO:+0200
TZNAME:Europe/Vienna CEST
END:DAYLIGHT
BEGIN:DAYLIGHT
DTSTART:20270328T030000
RDATE:20271031T020000
TZOFFSETFROM:+0100
TZOFFSETTO:+0200
TZNAME:Europe/Vienna CEST
END:DAYLIGHT
BEGIN:DAYLIGHT
DTSTART:20280326T030000
RDATE:20281029T020000
TZOFFSETFROM:+0100
TZOFFSETTO:+0200
TZNAME:Europe/Vienna CEST
END:DAYLIGHT
BEGIN:DAYLIGHT
DTSTART:20290325T030000
RDATE:20291028T020000
TZOFFSETFROM:+0100
TZOFFSETTO:+0200
TZNAME:Europe/Vienna CEST
END:DAYLIGHT
BEGIN:DAYLIGHT
DTSTART:20300331T030000
RDATE:20301027T020000
TZOFFSETFROM:+0100
TZOFFSETTO:+0200
TZNAME:Europe/Vienna CEST
END:DAYLIGHT
BEGIN:DAYLIGHT
DTSTART:20310330T030000
RDATE:20311026T020000
TZOFFSETFROM:+0100
TZOFFSETTO:+0200
TZNAME:Europe/Vienna CEST
END:DAYLIGHT
END:VTIMEZONE
BEGIN:VEVENT
UID:892dc7fe645ddd78eed2ac7a859f16b2
CATEGORIES:Konzert
CREATED:20250620T100127
SUMMARY:Opas Diandl
LOCATION:Altes Kino Rankweil
DESCRIPTION:Wie eng Lachen und Weinen, Freude und Trauer, Heim – und Fernweh miteinande
 r verbunden sind und welch große Energie und Inspiration diese Gegensätze e
 ntfachen können, beweisen Opas Diandl auch dieses Jahr wieder mit ihrem neu
 en Programm „riarn&amp;gspiarn“ (rühren und spüren für Nichttiroler).\nSeit
  2007 tobt sich das Quintett aus Südtirol auf der Spielwiese der alpinen Mu
 siktraditionen aus und verbindet diese mit allen im Rucksack enthaltenen Zu
 taten: von Bach bis Bluegrass, von Polka bis Punk, von zeitgenössischem Jod
 eln bis klassischer Liedermacherei.\nOpas Diandl sind:\nVeronika Egger – St
 imme, Geige, Viola da Gamba\nMarkus Prieth – Stimme, Raffele, Gitarre, Brat
 sche\nMichael Hackhofer – Stimme, Kontrabass, Geige\nThomas Lamprecht – Sti
 mme, Gitarre\nJan Langer – Percussion\n
X-ALT-DESC;FMTTYPE=text/html:<p>Wie eng Lachen und Weinen, Freude und Trauer, Heim – und Fernweh miteina
 nder verbunden sind und welch große Energie und Inspiration diese Gegensätz
 e entfachen können, beweisen Opas Diandl auch dieses Jahr wieder mit ihrem 
 neuen Programm „riarn&amp;gspiarn“ (rühren und spüren für Nichttiroler).</p
 ><p>Seit 2007 tobt sich das Quintett aus Südtirol auf der Spielwiese der al
 pinen Musiktraditionen aus und verbindet diese mit allen im Rucksack enthal
 tenen Zutaten: von Bach bis Bluegrass, von Polka bis Punk, von zeitgenössis
 chem Jodeln bis klassischer Liedermacherei.</p><p>Opas Diandl sind:<br />Ve
 ronika Egger – Stimme, Geige, Viola da Gamba<br />Markus Prieth – Stimme, R
 affele, Gitarre, Bratsche<br />Michael Hackhofer – Stimme, Kontrabass, Geig
 e<br />Thomas Lamprecht – Stimme, Gitarre<br />Jan Langer – Percussion</p>
X-EXTRAINFO:riarn&amp;gspiarn
DTSTAMP:20260425T165815
DTSTART;TZID=Europe/Vienna:20251115T200000
SEQUENCE:0
TRANSP:OPAQUE
END:VEVENT
END:VCALENDAR