BEGIN:VCALENDAR
VERSION:2.0
PRODID:-//jEvents 2.0 for Joomla//EN
CALSCALE:GREGORIAN
METHOD:PUBLISH
BEGIN:VTIMEZONE
TZID:Europe/Vienna
BEGIN:STANDARD
DTSTART:20240128T200000
RDATE:20240331T030000
TZOFFSETFROM:+0200
TZOFFSETTO:+0100
TZNAME:Europe/Vienna CET
END:STANDARD
BEGIN:STANDARD
DTSTART:20241027T020000
RDATE:20250330T030000
TZOFFSETFROM:+0200
TZOFFSETTO:+0100
TZNAME:Europe/Vienna CET
END:STANDARD
BEGIN:STANDARD
DTSTART:20251026T020000
RDATE:20260329T030000
TZOFFSETFROM:+0200
TZOFFSETTO:+0100
TZNAME:Europe/Vienna CET
END:STANDARD
BEGIN:STANDARD
DTSTART:20261025T020000
RDATE:20270328T030000
TZOFFSETFROM:+0200
TZOFFSETTO:+0100
TZNAME:Europe/Vienna CET
END:STANDARD
BEGIN:STANDARD
DTSTART:20271031T020000
RDATE:20280326T030000
TZOFFSETFROM:+0200
TZOFFSETTO:+0100
TZNAME:Europe/Vienna CET
END:STANDARD
BEGIN:STANDARD
DTSTART:20281029T020000
RDATE:20290325T030000
TZOFFSETFROM:+0200
TZOFFSETTO:+0100
TZNAME:Europe/Vienna CET
END:STANDARD
BEGIN:STANDARD
DTSTART:20291028T020000
RDATE:20300331T030000
TZOFFSETFROM:+0200
TZOFFSETTO:+0100
TZNAME:Europe/Vienna CET
END:STANDARD
BEGIN:STANDARD
DTSTART:20301027T020000
RDATE:20310330T030000
TZOFFSETFROM:+0200
TZOFFSETTO:+0100
TZNAME:Europe/Vienna CET
END:STANDARD
BEGIN:STANDARD
DTSTART:20311026T020000
RDATE:20320328T030000
TZOFFSETFROM:+0200
TZOFFSETTO:+0100
TZNAME:Europe/Vienna CET
END:STANDARD
BEGIN:DAYLIGHT
DTSTART:20240331T030000
RDATE:20241027T020000
TZOFFSETFROM:+0100
TZOFFSETTO:+0200
TZNAME:Europe/Vienna CEST
END:DAYLIGHT
BEGIN:DAYLIGHT
DTSTART:20250330T030000
RDATE:20251026T020000
TZOFFSETFROM:+0100
TZOFFSETTO:+0200
TZNAME:Europe/Vienna CEST
END:DAYLIGHT
BEGIN:DAYLIGHT
DTSTART:20260329T030000
RDATE:20261025T020000
TZOFFSETFROM:+0100
TZOFFSETTO:+0200
TZNAME:Europe/Vienna CEST
END:DAYLIGHT
BEGIN:DAYLIGHT
DTSTART:20270328T030000
RDATE:20271031T020000
TZOFFSETFROM:+0100
TZOFFSETTO:+0200
TZNAME:Europe/Vienna CEST
END:DAYLIGHT
BEGIN:DAYLIGHT
DTSTART:20280326T030000
RDATE:20281029T020000
TZOFFSETFROM:+0100
TZOFFSETTO:+0200
TZNAME:Europe/Vienna CEST
END:DAYLIGHT
BEGIN:DAYLIGHT
DTSTART:20290325T030000
RDATE:20291028T020000
TZOFFSETFROM:+0100
TZOFFSETTO:+0200
TZNAME:Europe/Vienna CEST
END:DAYLIGHT
BEGIN:DAYLIGHT
DTSTART:20300331T030000
RDATE:20301027T020000
TZOFFSETFROM:+0100
TZOFFSETTO:+0200
TZNAME:Europe/Vienna CEST
END:DAYLIGHT
BEGIN:DAYLIGHT
DTSTART:20310330T030000
RDATE:20311026T020000
TZOFFSETFROM:+0100
TZOFFSETTO:+0200
TZNAME:Europe/Vienna CEST
END:DAYLIGHT
END:VTIMEZONE
BEGIN:VEVENT
UID:2422c763e64d5b96fa484500f0c3544e
CATEGORIES:Konzert
CREATED:20241113T105026
SUMMARY:Jimmy Reiter Band
LOCATION:Altes Kino Rankweil
DESCRIPTION:Die Jimmy Reiter Band gehört aktuell zu den angesagten Top-Bands der Blues-
 Szene. Seit 2010 ist die Band auf den Club- und Festivalbühnen unterwegs, u
 m ihre Version des modernen, elektrischen Großstadtblues unters Volk zu bri
 ngen, für den sie sich in der Szene einen Namen gemacht hat.\nJimmy Reiter 
 war über zehn Jahre als Gitarrist des US-amerikanischen Blues-Sängers und M
 undharmonikaspielers Doug Jay sowie verschiedener anderer internationaler B
 lues-Künstler auf Tour, ehe er 2011 mit „High Priest Of Nothing“ sein Debüt
 album als Frontmann veröffentlichte. Diese wurde gleich mehrfach ausgezeich
 net \nAuch die internationale Bluespresse überschlägt sich mit Lob für den 
 Gitarristen und Sänger: „Dieser Typ ist einer der besten jungen Bluesgitarr
 isten, die man seit langem in Europa gehört hat“, schrieb beispielsweise un
 längst das größte britische Bluesmagazin „Blues &amp; Rhythm“. \nJimmy Reit
 er wurde mit dem „Big Blues Award“ als bester zeitgenössischer Blues-Künstl
 er ausgezeichnet und seine Band mit dem „German Blues Award“ als Beste Blue
 sband Deutschlands. \n
X-ALT-DESC;FMTTYPE=text/html:<p>Die Jimmy Reiter Band gehört aktuell zu den angesagten Top-Bands der Blu
 es-Szene. Seit 2010 ist die Band auf den Club- und Festivalbühnen unterwegs
 , um ihre Version des modernen, elektrischen Großstadtblues unters Volk zu 
 bringen, für den sie sich in der Szene einen Namen gemacht hat.</p><p>Jimmy
  Reiter war über zehn Jahre als Gitarrist des US-amerikanischen Blues-Sänge
 rs und Mundharmonikaspielers Doug Jay sowie verschiedener anderer internati
 onaler Blues-Künstler auf Tour, ehe er 2011 mit „High Priest Of Nothing“ se
 in Debütalbum als Frontmann veröffentlichte. Diese wurde gleich mehrfach au
 sgezeichnet </p><p>Auch die internationale Bluespresse überschlägt sich mit
  Lob für den Gitarristen und Sänger: „Dieser Typ ist einer der besten junge
 n Bluesgitarristen, die man seit langem in Europa gehört hat“, schrieb beis
 pielsweise unlängst das größte britische Bluesmagazin „Blues &amp; Rhythm“.
  </p><p>Jimmy Reiter wurde mit dem „Big Blues Award“ als bester zeitgenössi
 scher Blues-Künstler ausgezeichnet und seine Band mit dem „German Blues Awa
 rd“ als Beste Bluesband Deutschlands. </p>
X-EXTRAINFO:Blues
DTSTAMP:20260424T163111
DTSTART;TZID=Europe/Vienna:20250128T200000
SEQUENCE:0
TRANSP:OPAQUE
END:VEVENT
END:VCALENDAR